BEGIN:VCALENDAR
VERSION:2.0
PRODID:-//Bata Shoe Museum - ECPv6.15.20//NONSGML v1.0//EN
CALSCALE:GREGORIAN
METHOD:PUBLISH
X-ORIGINAL-URL:https://batashoemuseum.ca
X-WR-CALDESC:Events for Bata Shoe Museum
REFRESH-INTERVAL;VALUE=DURATION:PT1H
X-Robots-Tag:noindex
X-PUBLISHED-TTL:PT1H
BEGIN:VTIMEZONE
TZID:America/Toronto
BEGIN:DAYLIGHT
TZOFFSETFROM:-0500
TZOFFSETTO:-0400
TZNAME:EDT
DTSTART:20250309T070000
END:DAYLIGHT
BEGIN:STANDARD
TZOFFSETFROM:-0400
TZOFFSETTO:-0500
TZNAME:EST
DTSTART:20251102T060000
END:STANDARD
BEGIN:DAYLIGHT
TZOFFSETFROM:-0500
TZOFFSETTO:-0400
TZNAME:EDT
DTSTART:20260308T070000
END:DAYLIGHT
BEGIN:STANDARD
TZOFFSETFROM:-0400
TZOFFSETTO:-0500
TZNAME:EST
DTSTART:20261101T060000
END:STANDARD
BEGIN:DAYLIGHT
TZOFFSETFROM:-0500
TZOFFSETTO:-0400
TZNAME:EDT
DTSTART:20270314T070000
END:DAYLIGHT
BEGIN:STANDARD
TZOFFSETFROM:-0400
TZOFFSETTO:-0500
TZNAME:EST
DTSTART:20271107T060000
END:STANDARD
END:VTIMEZONE
BEGIN:VEVENT
DTSTART;TZID=America/Toronto:20260510T120000
DTEND;TZID=America/Toronto:20260510T160000
DTSTAMP:20260419T123807
CREATED:20250807T203356Z
LAST-MODIFIED:20260407T001924Z
UID:16404-1778414400-1778428800@batashoemuseum.ca
SUMMARY:Spring Exhibition Kickoff
DESCRIPTION:Date: Sunday\, May 10\, 2026\nTime: 12:00 pm – 4:00 pm\nLocation: Bata Shoe Museum\, 327 Bloor St. W.\nTickets: Free \nJoin us for a fun-filled afternoon to celebrate the opening of our spring exhibition\, Unearthing Vindolanda: Footwear from the Edge of the Roman Empire.  \nStep into the world of ancient Rome as you enjoy guided exhibition tours\, hands-on crafts\, a museum-wide scavenger hunt\, and drop-in activities inspired by life on the Roman frontier. \nMake your own Roman bulla—a good-luck necklace worn for protection in ancient times—and meet members of Legio XXX\, a North American Roman reenactment group bringing history to life with immersive displays\, stories\, and material culture from the era. Members of the Legion will also share their knowledge about the Roman military\, offering deeper insight into the lives of soldiers stationed at the edges of the empire. \nWhether you’re a history buff\, a curious kid\, or just looking for a fun and welcoming way to spend the day\, this Community Day offers a unique chance to explore Roman life\, fashion\, and footwear—right here in Toronto. \nGuided Exhibition Tours\n12:30 pm\, 1:30 pm\, 2:30 pm\, 3:30 pm\nApproximately 30 minutes ~ third floor \nRoman Military Presentations\n1:00 pm\, 2:00 pm\, 3:00 pm\nUnique each time ~ main level \nRSVP  \nPlease review our Terms and Conditions in advance and check in with Visitor Services upon arrival. Questions? Email us info@batashoemuseum.ca anytime.
URL:https://batashoemuseum.ca/event/spring-exhibition-opening/
CATEGORIES:Drop In Activity,Front Page,Special Event
ATTACH;FMTTYPE=image/jpeg:https://batashoemuseum.ca/wp-content/uploads/BSM_Roman_CommunityDay_banner.jpg
END:VEVENT
END:VCALENDAR